BEGIN:VCALENDAR
VERSION:2.0
PRODID:-//Healthier Alternatives - ECPv6.15.11//NONSGML v1.0//EN
CALSCALE:GREGORIAN
METHOD:PUBLISH
X-WR-CALNAME:Healthier Alternatives
X-ORIGINAL-URL:https://healthieralternatives.info
X-WR-CALDESC:Events for Healthier Alternatives
REFRESH-INTERVAL;VALUE=DURATION:PT1H
X-Robots-Tag:noindex
X-PUBLISHED-TTL:PT1H
BEGIN:VTIMEZONE
TZID:UTC
BEGIN:STANDARD
TZOFFSETFROM:+0000
TZOFFSETTO:+0000
TZNAME:UTC
DTSTART:20170101T000000
END:STANDARD
END:VTIMEZONE
BEGIN:VEVENT
DTSTART;TZID=UTC:20180226T100000
DTEND;TZID=UTC:20180304T160000
DTSTAMP:20260420T103310
CREATED:20180223T180022Z
LAST-MODIFIED:20180226T225849Z
UID:298-1519639200-1520179200@healthieralternatives.info
SUMMARY:Theta-Healer Advanced DNA Class
DESCRIPTION:Karen J Fox  ~Theta-Healer\nspiraliflight953@gmail.com\n319-330-2043 \nWe have meditation courses to healing classes with eight different mind body spirit modalities available throughout the year.
URL:https://healthieralternatives.info/event/theta-healer-advanced-dna-class/
END:VEVENT
END:VCALENDAR